BEGIN:VCALENDAR
VERSION:2.0
PRODID:-//Contratero//ES
CALSCALE:GREGORIAN
METHOD:PUBLISH
BEGIN:VEVENT
UID:TUR 1079/2025/COGE@contratero.es
DTSTAMP:20260419T161148Z
DTSTART:20251118T235959
DTEND:20251119T005959
SUMMARY:Cierre: Gestión integral\, administrativa y técnica\, de dom
DESCRIPTION:Gestión integral\, administrativa y técnica\, de dominios de internet para la sociedad municipal\, así como los servicios DNS asociados a cada uno de dichos dominios.\\n\\nOrganismo: Consejo de Administración de Turismo\, Comercio y Promoción Económica de Salamanca\, S.A.U.\\n\\nVer en Contratero: https://contratero.es/contracts/TUR 1079/2025/COGE
URL:https://contratero.es/contracts/TUR 1079/2025/COGE
STATUS:CONFIRMED
BEGIN:VALARM
TRIGGER:-P1D
ACTION:DISPLAY
DESCRIPTION:Recordatorio: Gestión integral\, administrati
END:VALARM
END:VEVENT
END:VCALENDAR